BEGIN:VCALENDAR
VERSION:2.0
PRODID:-//MANNA FoodBank - ECPv6.15.20//NONSGML v1.0//EN
CALSCALE:GREGORIAN
METHOD:PUBLISH
X-ORIGINAL-URL:https://mannafoodbank.org
X-WR-CALDESC:Events for MANNA FoodBank
REFRESH-INTERVAL;VALUE=DURATION:PT1H
X-Robots-Tag:noindex
X-PUBLISHED-TTL:PT1H
BEGIN:VTIMEZONE
TZID:America/New_York
BEGIN:DAYLIGHT
TZOFFSETFROM:-0500
TZOFFSETTO:-0400
TZNAME:EDT
DTSTART:20260308T070000
END:DAYLIGHT
BEGIN:STANDARD
TZOFFSETFROM:-0400
TZOFFSETTO:-0500
TZNAME:EST
DTSTART:20261101T060000
END:STANDARD
BEGIN:DAYLIGHT
TZOFFSETFROM:-0500
TZOFFSETTO:-0400
TZNAME:EDT
DTSTART:20270314T070000
END:DAYLIGHT
BEGIN:STANDARD
TZOFFSETFROM:-0400
TZOFFSETTO:-0500
TZNAME:EST
DTSTART:20271107T060000
END:STANDARD
BEGIN:DAYLIGHT
TZOFFSETFROM:-0500
TZOFFSETTO:-0400
TZNAME:EDT
DTSTART:20280312T070000
END:DAYLIGHT
BEGIN:STANDARD
TZOFFSETFROM:-0400
TZOFFSETTO:-0500
TZNAME:EST
DTSTART:20281105T060000
END:STANDARD
END:VTIMEZONE
BEGIN:VEVENT
DTSTART;TZID=America/New_York:20270111T120000
DTEND;TZID=America/New_York:20270111T133000
DTSTAMP:20260421T061143
CREATED:20260202T153406Z
LAST-MODIFIED:20260202T153406Z
UID:10001237-1799668800-1799674200@mannafoodbank.org
SUMMARY:Pine Grove
DESCRIPTION:
URL:https://mannafoodbank.org/event/pinegrove/2027-01-11/
LOCATION:Pine Grove\, 53 Pine Grove Rd\, Spruce Pine\, NC\, 28777\, United States
END:VEVENT
BEGIN:VEVENT
DTSTART;TZID=America/New_York:20270111T150000
DTEND;TZID=America/New_York:20270111T163000
DTSTAMP:20260421T061143
CREATED:20260202T152600Z
LAST-MODIFIED:20260202T152600Z
UID:10001117-1799679600-1799685000@mannafoodbank.org
SUMMARY:Maple Crest Apartments
DESCRIPTION:
URL:https://mannafoodbank.org/event/maple-crest-apartments/2027-01-11/
LOCATION:Maple Crest Apartments\, 20 Lee Garden Ln\, Asheville\, NC\, 28801\, United States
END:VEVENT
BEGIN:VEVENT
DTSTART;TZID=America/New_York:20270111T170000
DTEND;TZID=America/New_York:20270111T183000
DTSTAMP:20260421T061143
CREATED:20260202T152944Z
LAST-MODIFIED:20260202T153025Z
UID:10001177-1799686800-1799692200@mannafoodbank.org
SUMMARY:Erwin Middle School
DESCRIPTION:
URL:https://mannafoodbank.org/event/erwin-middle-school/2027-01-11/
LOCATION:Erwin Middle School\, 20 Erwin Hills Road\, Asheville\, NC\, 28806\, United States
END:VEVENT
BEGIN:VEVENT
DTSTART;TZID=America/New_York:20270112T143000
DTEND;TZID=America/New_York:20270112T163000
DTSTAMP:20260421T061143
CREATED:20260203T181108Z
LAST-MODIFIED:20260203T181108Z
UID:10001298-1799764200-1799771400@mannafoodbank.org
SUMMARY:Bartlett Arms Apartments
DESCRIPTION:
URL:https://mannafoodbank.org/event/bartlett-arms-apartments-2/2027-01-12/
LOCATION:Bartlett Arms Apartments\, 121 Bartlett St\, Asheville\, NC\, 28801\, United States
END:VEVENT
BEGIN:VEVENT
DTSTART;TZID=America/New_York:20270112T150000
DTEND;TZID=America/New_York:20270112T163000
DTSTAMP:20260421T061143
CREATED:20260203T181516Z
LAST-MODIFIED:20260203T181621Z
UID:10001358-1799766000-1799771400@mannafoodbank.org
SUMMARY:Woodfin Newbridge Baptist Church
DESCRIPTION:
URL:https://mannafoodbank.org/event/woodfin-newbridge-baptist-church/2027-01-12/
LOCATION:Woodfin Newbridge Baptist Church\, 199 Elkwood Ave.\, Woodfin\, NC\, 28804\, United States
END:VEVENT
BEGIN:VEVENT
DTSTART;TZID=America/New_York:20270113T100000
DTEND;TZID=America/New_York:20270113T113000
DTSTAMP:20260421T061143
CREATED:20260203T182207Z
LAST-MODIFIED:20260203T182207Z
UID:10001478-1799834400-1799839800@mannafoodbank.org
SUMMARY:Micaville
DESCRIPTION:
URL:https://mannafoodbank.org/event/micaville/2027-01-13/
LOCATION:Micaville\, 71 Newdale Church Rd.\, Burnsville\, North Carolina\, 28714
END:VEVENT
BEGIN:VEVENT
DTSTART;TZID=America/New_York:20270113T130000
DTEND;TZID=America/New_York:20270113T150000
DTSTAMP:20260421T061143
CREATED:20260203T181912Z
LAST-MODIFIED:20260310T202311Z
UID:10001418-1799845200-1799852400@mannafoodbank.org
SUMMARY:Pisgah View Apartments
DESCRIPTION:
URL:https://mannafoodbank.org/event/pisgah-view-apartments-2/2027-01-13/
LOCATION:Pisgah View Apartments\, 1 Granada St.\, Asheville\, NC\, 28806\, United States
END:VEVENT
BEGIN:VEVENT
DTSTART;TZID=America/New_York:20270114T113000
DTEND;TZID=America/New_York:20270114T123000
DTSTAMP:20260421T061143
CREATED:20260310T150236Z
LAST-MODIFIED:20260310T150236Z
UID:10002383-1799926200-1799929800@mannafoodbank.org
SUMMARY:Service Center for Latinos
DESCRIPTION:
URL:https://mannafoodbank.org/event/service-center-for-latinos-2/2027-01-14/
LOCATION:Service Center for Latinos\, 431 Oak Avenue\, Spruce Pine\, NC\, 28777\, United States
END:VEVENT
END:VCALENDAR