BEGIN:VCALENDAR
VERSION:2.0
PRODID:-//MANNA FoodBank - ECPv6.15.20//NONSGML v1.0//EN
CALSCALE:GREGORIAN
METHOD:PUBLISH
X-ORIGINAL-URL:https://mannafoodbank.org
X-WR-CALDESC:Events for MANNA FoodBank
REFRESH-INTERVAL;VALUE=DURATION:PT1H
X-Robots-Tag:noindex
X-PUBLISHED-TTL:PT1H
BEGIN:VTIMEZONE
TZID:America/New_York
BEGIN:DAYLIGHT
TZOFFSETFROM:-0500
TZOFFSETTO:-0400
TZNAME:EDT
DTSTART:20250309T070000
END:DAYLIGHT
BEGIN:STANDARD
TZOFFSETFROM:-0400
TZOFFSETTO:-0500
TZNAME:EST
DTSTART:20251102T060000
END:STANDARD
BEGIN:DAYLIGHT
TZOFFSETFROM:-0500
TZOFFSETTO:-0400
TZNAME:EDT
DTSTART:20260308T070000
END:DAYLIGHT
BEGIN:STANDARD
TZOFFSETFROM:-0400
TZOFFSETTO:-0500
TZNAME:EST
DTSTART:20261101T060000
END:STANDARD
BEGIN:DAYLIGHT
TZOFFSETFROM:-0500
TZOFFSETTO:-0400
TZNAME:EDT
DTSTART:20270314T070000
END:DAYLIGHT
BEGIN:STANDARD
TZOFFSETFROM:-0400
TZOFFSETTO:-0500
TZNAME:EST
DTSTART:20271107T060000
END:STANDARD
END:VTIMEZONE
BEGIN:VEVENT
DTSTART;TZID=America/New_York:20260608T120000
DTEND;TZID=America/New_York:20260608T133000
DTSTAMP:20260421T074022
CREATED:20260202T153406Z
LAST-MODIFIED:20260202T153406Z
UID:10001230-1780920000-1780925400@mannafoodbank.org
SUMMARY:Pine Grove
DESCRIPTION:
URL:https://mannafoodbank.org/event/pinegrove/2026-06-08/
LOCATION:Pine Grove\, 53 Pine Grove Rd\, Spruce Pine\, NC\, 28777\, United States
END:VEVENT
BEGIN:VEVENT
DTSTART;TZID=America/New_York:20260608T150000
DTEND;TZID=America/New_York:20260608T163000
DTSTAMP:20260421T074022
CREATED:20260202T152600Z
LAST-MODIFIED:20260202T152600Z
UID:10001110-1780930800-1780936200@mannafoodbank.org
SUMMARY:Maple Crest Apartments
DESCRIPTION:
URL:https://mannafoodbank.org/event/maple-crest-apartments/2026-06-08/
LOCATION:Maple Crest Apartments\, 20 Lee Garden Ln\, Asheville\, NC\, 28801\, United States
END:VEVENT
BEGIN:VEVENT
DTSTART;TZID=America/New_York:20260608T170000
DTEND;TZID=America/New_York:20260608T183000
DTSTAMP:20260421T074022
CREATED:20260202T152944Z
LAST-MODIFIED:20260202T153025Z
UID:10001170-1780938000-1780943400@mannafoodbank.org
SUMMARY:Erwin Middle School
DESCRIPTION:
URL:https://mannafoodbank.org/event/erwin-middle-school/2026-06-08/
LOCATION:Erwin Middle School\, 20 Erwin Hills Road\, Asheville\, NC\, 28806\, United States
END:VEVENT
BEGIN:VEVENT
DTSTART;TZID=America/New_York:20260609T143000
DTEND;TZID=America/New_York:20260609T163000
DTSTAMP:20260421T074022
CREATED:20260203T181108Z
LAST-MODIFIED:20260203T181108Z
UID:10001291-1781015400-1781022600@mannafoodbank.org
SUMMARY:Bartlett Arms Apartments
DESCRIPTION:
URL:https://mannafoodbank.org/event/bartlett-arms-apartments-2/2026-06-09/
LOCATION:Bartlett Arms Apartments\, 121 Bartlett St\, Asheville\, NC\, 28801\, United States
END:VEVENT
BEGIN:VEVENT
DTSTART;TZID=America/New_York:20260609T150000
DTEND;TZID=America/New_York:20260609T163000
DTSTAMP:20260421T074022
CREATED:20260203T181516Z
LAST-MODIFIED:20260203T181621Z
UID:10001351-1781017200-1781022600@mannafoodbank.org
SUMMARY:Woodfin Newbridge Baptist Church
DESCRIPTION:
URL:https://mannafoodbank.org/event/woodfin-newbridge-baptist-church/2026-06-09/
LOCATION:Woodfin Newbridge Baptist Church\, 199 Elkwood Ave.\, Woodfin\, NC\, 28804\, United States
END:VEVENT
BEGIN:VEVENT
DTSTART;TZID=America/New_York:20260610T100000
DTEND;TZID=America/New_York:20260610T113000
DTSTAMP:20260421T074022
CREATED:20260203T182207Z
LAST-MODIFIED:20260203T182207Z
UID:10001471-1781085600-1781091000@mannafoodbank.org
SUMMARY:Micaville
DESCRIPTION:
URL:https://mannafoodbank.org/event/micaville/2026-06-10/
LOCATION:Micaville\, 71 Newdale Church Rd.\, Burnsville\, North Carolina\, 28714
END:VEVENT
BEGIN:VEVENT
DTSTART;TZID=America/New_York:20260610T110000
DTEND;TZID=America/New_York:20260610T120000
DTSTAMP:20260421T074022
CREATED:20260311T150708Z
LAST-MODIFIED:20260311T150709Z
UID:10001591-1781089200-1781092800@mannafoodbank.org
SUMMARY:Harrah's Casino - Valley River
DESCRIPTION:
URL:https://mannafoodbank.org/event/harrahs-casino-valley-river-2/2026-06-10/
LOCATION:Harrah’s Casino-Valley River\, 777 Casino Pkwy\, Murphy\, NC\, 28906\, United States
END:VEVENT
BEGIN:VEVENT
DTSTART;TZID=America/New_York:20260610T130000
DTEND;TZID=America/New_York:20260610T150000
DTSTAMP:20260421T074022
CREATED:20260203T181912Z
LAST-MODIFIED:20260310T202311Z
UID:10001411-1781096400-1781103600@mannafoodbank.org
SUMMARY:Pisgah View Apartments
DESCRIPTION:
URL:https://mannafoodbank.org/event/pisgah-view-apartments-2/2026-06-10/
LOCATION:Pisgah View Apartments\, 1 Granada St.\, Asheville\, NC\, 28806\, United States
END:VEVENT
BEGIN:VEVENT
DTSTART;TZID=America/New_York:20260611T113000
DTEND;TZID=America/New_York:20260611T123000
DTSTAMP:20260421T074022
CREATED:20260310T150236Z
LAST-MODIFIED:20260310T150236Z
UID:10002376-1781177400-1781181000@mannafoodbank.org
SUMMARY:Service Center for Latinos
DESCRIPTION:
URL:https://mannafoodbank.org/event/service-center-for-latinos-2/2026-06-11/
LOCATION:Service Center for Latinos\, 431 Oak Avenue\, Spruce Pine\, NC\, 28777\, United States
END:VEVENT
BEGIN:VEVENT
DTSTART;TZID=America/New_York:20260612T120000
DTEND;TZID=America/New_York:20260612T133000
DTSTAMP:20260421T074022
CREATED:20260203T182955Z
LAST-MODIFIED:20260203T182955Z
UID:10001711-1781265600-1781271000@mannafoodbank.org
SUMMARY:Grove Street Community Center
DESCRIPTION:
URL:https://mannafoodbank.org/event/grove-street-community-center/2026-06-12/
LOCATION:Grove Street Community Center\, 36 Grove St.\, Asheville\, NC\, 28801\, United States
END:VEVENT
END:VCALENDAR